BEGIN:VCALENDAR
VERSION:2.0
PRODID:-//wp-events-plugin.com//7.2.3.1//EN
TZID:Europe/Tallinn
X-WR-TIMEZONE:Europe/Tallinn
BEGIN:VEVENT
UID:12@lammas.ee
DTSTART;TZID=Europe/Tallinn:20260420T110000
DTEND;TZID=Europe/Tallinn:20260420T160000
DTSTAMP:20260414T053520Z
URL:https://lammas.ee/events/lammaste-poegimise-infopaev-saaremaal/
SUMMARY:Lammaste poegimise infopäev Saaremaal
DESCRIPTION:Mahepõllumajanduse Koostöökogu kutsub teid infopäevale\n\n\
 n\n\nToimumise aeg: 20.04.2026 kell 11:00 – 16:00\nToimumise koht: And
 ruse mahe- ja turismitalu\, Rahtla\, Saaremaa\nKorraldaja: Mahepõllumaja
 nduse Koostöökogu\nSihtrühm: mahe- ja tavalambakasvatajad\n\nInfopäev
  on tasuta.\n\nRohkem infot : https://www.pikk.ee/sundmus/mahelambakasvat
 use-infopaev-6/\n\nOsalemiseks on vaja registreeruda hiljemalt 14.04 siin:
  https://forms.gle/dgQ726chbpfiRbWt5\n\n\n\n\n
END:VEVENT
BEGIN:VTIMEZONE
TZID:Europe/Tallinn
X-LIC-LOCATION:Europe/Tallinn
BEGIN:DAYLIGHT
DTSTART:20260329T040000
TZOFFSETFROM:+0200
TZOFFSETTO:+0300
TZNAME:EEST
END:DAYLIGHT
END:VTIMEZONE
END:VCALENDAR